BEGIN:VCALENDAR
VERSION:2.0
PRODID:-//The Henry Clay Estate - ECPv6.15.20//NONSGML v1.0//EN
CALSCALE:GREGORIAN
METHOD:PUBLISH
X-ORIGINAL-URL:https://henryclay.org
X-WR-CALDESC:Events for The Henry Clay Estate
REFRESH-INTERVAL;VALUE=DURATION:PT1H
X-Robots-Tag:noindex
X-PUBLISHED-TTL:PT1H
BEGIN:VTIMEZONE
TZID:UTC
BEGIN:STANDARD
TZOFFSETFROM:+0000
TZOFFSETTO:+0000
TZNAME:UTC
DTSTART:20250101T000000
END:STANDARD
END:VTIMEZONE
BEGIN:VEVENT
DTSTART;TZID=UTC:20260425T090000
DTEND;TZID=UTC:20260425T120000
DTSTAMP:20260420T094853
CREATED:20260227T214351Z
LAST-MODIFIED:20260228T163222Z
UID:3137-1777107600-1777118400@henryclay.org
SUMMARY:Community Clean Up Day
DESCRIPTION:Join us for our annual Spring Clean-Up Day at Ashland as we prepare the grounds for a new season of visitors\, tours\, and events. \nWe’ll be tackling projects across the estate\, including: \n\n\nTouch-up painting \n\n\nCleaning and refreshing signage \n\n\nClearing downed branches \n\n\nSpreading wood chips on trees and trails \n\n\nWhether you can stay for an hour or the full morning\, your help makes a visible difference. \nPlease dress for outdoor work. Gloves are recommended — and if you have a favorite wheelbarrow\, feel free to bring it along. \nAll assistance is appreciated. Let’s get Ashland ready for spring!
URL:https://henryclay.org/event/community-clean-up-day/
LOCATION:Ashland Estate\, 120 Sycamore Rd\, Lexinton\, Kentucky\, 40502
ATTACH;FMTTYPE=image/png:https://henryclay.org/wp-content/uploads/2026/02/Community-Clean-UP-1920-x-1080-px.png
ORGANIZER;CN="Joel Damron":MAILTO:jdamron@henryclay.org
END:VEVENT
END:VCALENDAR